BEGIN:VCALENDAR
VERSION:2.0
PRODID:-//eventon.com NONSGML v1.0//EN
CALSCALE:GREGORIAN
METHOD:PUBLISH
BEGIN:VEVENT
UID:69e5a40aaf526
DTSTAMP:20260420T035658Z
DTSTART:20260629
DTEND:20260630
LOCATION:
SUMMARY:Missoula Children's Theatre Camp - Cinderella (Cast\,  Entering 1st Grade through Age 7)
DESCRIPTION:The Missoula Children’s Theatre presents CINDERELLA\,  an ori
 ginal adaptation of the classic fairy tale. A pumpkin coach\,  Prince Charm
 ing\,  a glass slipper and a dream come true are woven together with the he
 lp of the Fairy Godmother in this enchanting musical. When Cinderella’s s
 tepsisters try to keep Cinderella from attending[..]\nhttps://www.themadiso
 n.org/event/cinderella-7yo/
URL:https://www.themadison.org/event/cinderella-7yo/
END:VEVENT
END:VCALENDAR