BEGIN:VCALENDAR
VERSION:2.0
PRODID:-//eventon.com NONSGML v1.0//EN
CALSCALE:GREGORIAN
METHOD:PUBLISH
BEGIN:VEVENT
UID:69e5a58a06264
DTSTAMP:20260420T040322Z
DTSTART:20260608
DTEND:20260609
LOCATION:
SUMMARY:Missoula Children's Theatre Camp - Peter and Wendy (Cast\,  Ages 8-18)
DESCRIPTION:When Captain Hook sends his right-hand man\,  Smee\,  on a ques
 t to capture Peter Pan\,  it’s seemingly business as usual…at first. Li
 ttle does Hook realize what fantastic adventures await him and his pirate p
 osse in their search for the elusive Peter Pan. Mistaken identities\,  ever
 -morphing clouds\,  a classy crocodile\,  some[..]\nhttps://www.themadison.
 org/event/peter-and-wendy-8-18/
URL:https://www.themadison.org/event/peter-and-wendy-8-18/
END:VEVENT
END:VCALENDAR